BEGIN:VCALENDAR
VERSION:2.0
PRODID:-//Selby Folk Club - ECPv6.15.20//NONSGML v1.0//EN
CALSCALE:GREGORIAN
METHOD:PUBLISH
X-WR-CALNAME:Selby Folk Club
X-ORIGINAL-URL:https://selbyfolkclub.com.au
X-WR-CALDESC:Events for Selby Folk Club
REFRESH-INTERVAL;VALUE=DURATION:PT1H
X-Robots-Tag:noindex
X-PUBLISHED-TTL:PT1H
BEGIN:VTIMEZONE
TZID:Australia/Melbourne
BEGIN:STANDARD
TZOFFSETFROM:+1100
TZOFFSETTO:+1000
TZNAME:AEST
DTSTART:20150404T160000
END:STANDARD
BEGIN:DAYLIGHT
TZOFFSETFROM:+1000
TZOFFSETTO:+1100
TZNAME:AEDT
DTSTART:20151003T160000
END:DAYLIGHT
BEGIN:STANDARD
TZOFFSETFROM:+1100
TZOFFSETTO:+1000
TZNAME:AEST
DTSTART:20160402T160000
END:STANDARD
BEGIN:DAYLIGHT
TZOFFSETFROM:+1000
TZOFFSETTO:+1100
TZNAME:AEDT
DTSTART:20161001T160000
END:DAYLIGHT
BEGIN:STANDARD
TZOFFSETFROM:+1100
TZOFFSETTO:+1000
TZNAME:AEST
DTSTART:20170401T160000
END:STANDARD
BEGIN:DAYLIGHT
TZOFFSETFROM:+1000
TZOFFSETTO:+1100
TZNAME:AEDT
DTSTART:20170930T160000
END:DAYLIGHT
END:VTIMEZONE
BEGIN:VEVENT
DTSTART;TZID=Australia/Melbourne:20161203T200000
DTEND;TZID=Australia/Melbourne:20161203T230000
DTSTAMP:20260425T032844
CREATED:20160514T031347Z
LAST-MODIFIED:20161126T025711Z
UID:477-1480795200-1480806000@selbyfolkclub.com.au
SUMMARY:Jenny Biddle
DESCRIPTION:It’s been a year since Jenny Biddle left Oz to live in sunny Scotland and practise the art of making a woodstove fire with wet wood. Now with new material and old favourites\, she’ll be touring Oz across summer and\, of course\, stopping off at Selby Folk Club. \nWith five albums under her belt and an iTunes chart-topping single\, indie folk/blues songsmith\, Jenny Biddle\, wraps herself around her guitar\, and like a marriage between body and instrument\, she commands the guitar to talk “with uncommon skill and absolute self-assurance” (Syke\, 2013). Her audience is compelled to join her on a voyage of passion and story in song. \nLive on stage\, with “a banter which is honest\, direct\, personal\, affectionate\, funny and utterly engaging” she has “that peculiar knack for making a large space like a lounge room” (Syke\, 2013)\, her audience laughs and cries in all the right places. There is an indisputable sophistication in her lyrics that touches upon issues that affect us all; love\, loss\, hopes and fears\, but also delves into the dark honesty of eating disorders\, sexuality\, depression\, only to be lifted by her unexpected comical interjections between songs. The guitar nuts are astounded by her ability to intertwine bass notes\, percussion and melody so seamlessly that one could believe there are more instrumentalists on stage. \n 
URL:https://selbyfolkclub.com.au/event/jenny-biddle-3/
LOCATION:Selby Community House\, 1 Minak Road\, Selby \, 3159\, Australia
CATEGORIES:Club Night
ATTACH;FMTTYPE=image/jpeg:https://selbyfolkclub.com.au/wp-content/uploads/Jenny-Biddle.jpg
END:VEVENT
END:VCALENDAR