BEGIN:VCALENDAR
VERSION:2.0
PRODID:-//Selby Folk Club - ECPv6.15.20//NONSGML v1.0//EN
CALSCALE:GREGORIAN
METHOD:PUBLISH
X-WR-CALNAME:Selby Folk Club
X-ORIGINAL-URL:https://selbyfolkclub.com.au
X-WR-CALDESC:Events for Selby Folk Club
REFRESH-INTERVAL;VALUE=DURATION:PT1H
X-Robots-Tag:noindex
X-PUBLISHED-TTL:PT1H
BEGIN:VTIMEZONE
TZID:Australia/Melbourne
BEGIN:STANDARD
TZOFFSETFROM:+1100
TZOFFSETTO:+1000
TZNAME:AEST
DTSTART:20180331T160000
END:STANDARD
BEGIN:DAYLIGHT
TZOFFSETFROM:+1000
TZOFFSETTO:+1100
TZNAME:AEDT
DTSTART:20181006T160000
END:DAYLIGHT
BEGIN:STANDARD
TZOFFSETFROM:+1100
TZOFFSETTO:+1000
TZNAME:AEST
DTSTART:20190406T160000
END:STANDARD
BEGIN:DAYLIGHT
TZOFFSETFROM:+1000
TZOFFSETTO:+1100
TZNAME:AEDT
DTSTART:20191005T160000
END:DAYLIGHT
BEGIN:STANDARD
TZOFFSETFROM:+1100
TZOFFSETTO:+1000
TZNAME:AEST
DTSTART:20200404T160000
END:STANDARD
BEGIN:DAYLIGHT
TZOFFSETFROM:+1000
TZOFFSETTO:+1100
TZNAME:AEDT
DTSTART:20201003T160000
END:DAYLIGHT
END:VTIMEZONE
BEGIN:VEVENT
DTSTART;TZID=Australia/Melbourne:20190405T200000
DTEND;TZID=Australia/Melbourne:20190405T230000
DTSTAMP:20260425T032851
CREATED:20190125T040700Z
LAST-MODIFIED:20190125T044403Z
UID:1590-1554494400-1554505200@selbyfolkclub.com.au
SUMMARY:Tim Woodz
DESCRIPTION:Folk Festival funny man and Maldon Ministerial award winner (2011). Tim Woodz has supported ex TISM Damien Cowell’s Disco Machine at the Corner Hotel and played multiple supports for Tex Perkins and the Dark Horses. A reporter after a gig at Sydney’s Oxford Art Factory wrote: \n“Tim Woodz is the kind of person your Mum or Dad would describe most fittingly as a ‘duffer’… but Woodz’ charm played a big part in the audience warming up to him. He was all grins and silly anecdotes\, putting the crowd at ease and holding court over a few tall tales.” \nTim is famously known for his Possum song\, Tall Trees and Laundromat songs and on his on stage witty character. Tim’s Jazz trained guitar style with a blend of folk stories and quirky tales will please the poetic lovers in all the young at heart. \n\n 
URL:https://selbyfolkclub.com.au/event/tim-woodz-2/
LOCATION:Selby Community House\, 1 Minak Road\, Selby \, 3159\, Australia
CATEGORIES:Club Night
ATTACH;FMTTYPE=image/jpeg:https://selbyfolkclub.com.au/wp-content/uploads/Tim-Woodz-and-the-Dirty-Shoes.jpg
END:VEVENT
END:VCALENDAR